BEGIN:VCALENDAR
VERSION:2.0
PRODID:-//Forestburg Community News - ECPv6.15.20//NONSGML v1.0//EN
CALSCALE:GREGORIAN
METHOD:PUBLISH
X-WR-CALNAME:Forestburg Community News
X-ORIGINAL-URL:https://forestburgtexas.com
X-WR-CALDESC:Events for Forestburg Community News
REFRESH-INTERVAL;VALUE=DURATION:PT1H
X-Robots-Tag:noindex
X-PUBLISHED-TTL:PT1H
BEGIN:VTIMEZONE
TZID:America/Chicago
BEGIN:DAYLIGHT
TZOFFSETFROM:-0600
TZOFFSETTO:-0500
TZNAME:CDT
DTSTART:20250309T080000
END:DAYLIGHT
BEGIN:STANDARD
TZOFFSETFROM:-0500
TZOFFSETTO:-0600
TZNAME:CST
DTSTART:20251102T070000
END:STANDARD
BEGIN:DAYLIGHT
TZOFFSETFROM:-0600
TZOFFSETTO:-0500
TZNAME:CDT
DTSTART:20260308T080000
END:DAYLIGHT
BEGIN:STANDARD
TZOFFSETFROM:-0500
TZOFFSETTO:-0600
TZNAME:CST
DTSTART:20261101T070000
END:STANDARD
BEGIN:DAYLIGHT
TZOFFSETFROM:-0600
TZOFFSETTO:-0500
TZNAME:CDT
DTSTART:20270314T080000
END:DAYLIGHT
BEGIN:STANDARD
TZOFFSETFROM:-0500
TZOFFSETTO:-0600
TZNAME:CST
DTSTART:20271107T070000
END:STANDARD
END:VTIMEZONE
BEGIN:VEVENT
DTSTART;TZID=America/Chicago:20260425T140000
DTEND;TZID=America/Chicago:20260425T160000
DTSTAMP:20260424T031202
CREATED:20260423T235413Z
LAST-MODIFIED:20260423T235413Z
UID:10008478-1777125600-1777132800@forestburgtexas.com
SUMMARY:Robinson Cemetery Historical Marker Ceremony (near Bonita)
DESCRIPTION:“Please join the Montague County Cemetery Board Saturday April 25th for the unveiling of our county’s newest Texas Historical Cemetery Medallion honoring the Robinson Cemetery near Bonita. The presentation will start at 2:00pm. Max Brown will give a brief history of the cemetery and some of the pioneers buried there. Bud and Pat Hooper will sing and the marker will be unveiled. Then take time to walk among the graves and remember the people that helped to shape our country’s history.” – Beckey Scott
URL:https://forestburgtexas.com/event/robinson-cemetery-historical-marker-ceremony-near-bonita/
LOCATION:Robinson Cemetery\, near Bonita\, TX\, 76255\, United States
END:VEVENT
BEGIN:VEVENT
DTSTART;TZID=America/Chicago:20260426T093000
DTEND;TZID=America/Chicago:20260426T103000
DTSTAMP:20260424T031202
CREATED:20260421T220024Z
LAST-MODIFIED:20260421T220024Z
UID:10000001-1777195800-1777199400@forestburgtexas.com
SUMMARY:Sunday School
DESCRIPTION:
URL:https://forestburgtexas.com/event/sunday-school/2026-04-26/
LOCATION:Forestburg United Methodist Church\, 16846 FM 455\, Forestburg\, TX\, 76239\, United States
ORGANIZER;CN="Forestburg United Methodist Church":MAILTO:forestburgumc@gmail.com
END:VEVENT
BEGIN:VEVENT
DTSTART;TZID=America/Chicago:20260426T093000
DTEND;TZID=America/Chicago:20260426T110000
DTSTAMP:20260424T031202
CREATED:20260421T233825Z
LAST-MODIFIED:20260421T233825Z
UID:10003193-1777195800-1777201200@forestburgtexas.com
SUMMARY:Sunday School
DESCRIPTION:
URL:https://forestburgtexas.com/event/sunday-school-2/2026-04-26/
LOCATION:Life Church 2:42\, 16788 FM 455\, Forestburg\, 76239\, United States
ORGANIZER;CN="Life Church 2%3A42":MAILTO:lifechurch242@gmail.com
END:VEVENT
BEGIN:VEVENT
DTSTART;TZID=America/Chicago:20260426T094500
DTEND;TZID=America/Chicago:20260426T110000
DTSTAMP:20260424T031202
CREATED:20260422T000624Z
LAST-MODIFIED:20260422T000624Z
UID:10005542-1777196700-1777201200@forestburgtexas.com
SUMMARY:Bible Study (all ages)
DESCRIPTION:
URL:https://forestburgtexas.com/event/bible-study-all-ages/2026-04-26/
LOCATION:Forestburg Baptist Church\, 17065 FM 455\, Forestburg\, TX\, 76239\, United States
ORGANIZER;CN="Forestburg Baptist Church":MAILTO:forestburgbc@msn.com
END:VEVENT
BEGIN:VEVENT
DTSTART;TZID=America/Chicago:20260426T100000
DTEND;TZID=America/Chicago:20260426T110000
DTSTAMP:20260424T031202
CREATED:20260421T232836Z
LAST-MODIFIED:20260421T232836Z
UID:10001366-1777197600-1777201200@forestburgtexas.com
SUMMARY:Bible Class
DESCRIPTION:
URL:https://forestburgtexas.com/event/bible-class/2026-04-26/
LOCATION:Forestburg Church of Christ\, 16969 FM 455\, Forestburg\, 76239\, United States
ORGANIZER;CN="Forestburg Church of Christ":MAILTO:forestburgchurchofchrist@gmail.com
END:VEVENT
BEGIN:VEVENT
DTSTART;TZID=America/Chicago:20260426T103000
DTEND;TZID=America/Chicago:20260426T110000
DTSTAMP:20260424T031202
CREATED:20260421T220220Z
LAST-MODIFIED:20260421T220220Z
UID:10000523-1777199400-1777201200@forestburgtexas.com
SUMMARY:Coffee & Fellowship
DESCRIPTION:
URL:https://forestburgtexas.com/event/coffee-fellowship/2026-04-26/
LOCATION:Forestburg United Methodist Church\, 16846 FM 455\, Forestburg\, TX\, 76239\, United States
ORGANIZER;CN="Forestburg United Methodist Church":MAILTO:forestburgumc@gmail.com
END:VEVENT
BEGIN:VEVENT
DTSTART;TZID=America/Chicago:20260426T103000
DTEND;TZID=America/Chicago:20260426T120000
DTSTAMP:20260424T031202
CREATED:20260421T235235Z
LAST-MODIFIED:20260421T235235Z
UID:10004498-1777199400-1777204800@forestburgtexas.com
SUMMARY:Worship
DESCRIPTION:
URL:https://forestburgtexas.com/event/worship-3/2026-04-26/
LOCATION:Saddle Creek Cowboy Church\, 278 County Road 326\, Forestburg\, TX\, 76239\, United States
ORGANIZER;CN="Saddle Creek Cowboy Church":MAILTO:jason@saddlecreekcowboychurch.org
END:VEVENT
BEGIN:VEVENT
DTSTART;TZID=America/Chicago:20260426T110000
DTEND;TZID=America/Chicago:20260426T120000
DTSTAMP:20260424T031202
CREATED:20260421T220311Z
LAST-MODIFIED:20260421T220311Z
UID:10001045-1777201200-1777204800@forestburgtexas.com
SUMMARY:Morning Worship
DESCRIPTION:
URL:https://forestburgtexas.com/event/morning-worship/2026-04-26/
LOCATION:Forestburg United Methodist Church\, 16846 FM 455\, Forestburg\, TX\, 76239\, United States
ORGANIZER;CN="Forestburg United Methodist Church":MAILTO:forestburgumc@gmail.com
END:VEVENT
BEGIN:VEVENT
DTSTART;TZID=America/Chicago:20260426T110000
DTEND;TZID=America/Chicago:20260426T120000
DTSTAMP:20260424T031202
CREATED:20260421T232946Z
LAST-MODIFIED:20260421T232946Z
UID:10001888-1777201200-1777204800@forestburgtexas.com
SUMMARY:Worship
DESCRIPTION:
URL:https://forestburgtexas.com/event/worship/2026-04-26/
LOCATION:Forestburg Church of Christ\, 16969 FM 455\, Forestburg\, 76239\, United States
ORGANIZER;CN="Forestburg Church of Christ":MAILTO:forestburgchurchofchrist@gmail.com
END:VEVENT
BEGIN:VEVENT
DTSTART;TZID=America/Chicago:20260426T110000
DTEND;TZID=America/Chicago:20260426T120000
DTSTAMP:20260424T031202
CREATED:20260422T000751Z
LAST-MODIFIED:20260422T000751Z
UID:10006064-1777201200-1777204800@forestburgtexas.com
SUMMARY:Worship (nursery available for infants through 3 years)
DESCRIPTION:
URL:https://forestburgtexas.com/event/worship-nursery-available-for-infants-through-3-years/2026-04-26/
LOCATION:Forestburg Baptist Church\, 17065 FM 455\, Forestburg\, TX\, 76239\, United States
ORGANIZER;CN="Forestburg Baptist Church":MAILTO:forestburgbc@msn.com
END:VEVENT
BEGIN:VEVENT
DTSTART;TZID=America/Chicago:20260426T110000
DTEND;TZID=America/Chicago:20260426T123000
DTSTAMP:20260424T031202
CREATED:20260421T234027Z
LAST-MODIFIED:20260421T234027Z
UID:10003715-1777201200-1777206600@forestburgtexas.com
SUMMARY:Worship
DESCRIPTION:
URL:https://forestburgtexas.com/event/worship-2/2026-04-26/
LOCATION:Life Church 2:42\, 16788 FM 455\, Forestburg\, 76239\, United States
ORGANIZER;CN="Life Church 2%3A42":MAILTO:lifechurch242@gmail.com
END:VEVENT
BEGIN:VEVENT
DTSTART;TZID=America/Chicago:20260426T120000
DTEND;TZID=America/Chicago:20260426T130000
DTSTAMP:20260424T031202
CREATED:20260421T233029Z
LAST-MODIFIED:20260421T233029Z
UID:10002410-1777204800-1777208400@forestburgtexas.com
SUMMARY:Lunch
DESCRIPTION:
URL:https://forestburgtexas.com/event/lunch/2026-04-26/
LOCATION:Forestburg Church of Christ\, 16969 FM 455\, Forestburg\, 76239\, United States
ORGANIZER;CN="Forestburg Church of Christ":MAILTO:forestburgchurchofchrist@gmail.com
END:VEVENT
BEGIN:VEVENT
DTSTART;TZID=America/Chicago:20260426T123000
DTEND;TZID=America/Chicago:20260426T133000
DTSTAMP:20260424T031202
CREATED:20260421T234104Z
LAST-MODIFIED:20260421T234104Z
UID:10004237-1777206600-1777210200@forestburgtexas.com
SUMMARY:Potluck
DESCRIPTION:
URL:https://forestburgtexas.com/event/potluck/2026-04-26/
LOCATION:Life Church 2:42\, 16788 FM 455\, Forestburg\, 76239\, United States
ORGANIZER;CN="Life Church 2%3A42":MAILTO:lifechurch242@gmail.com
END:VEVENT
BEGIN:VEVENT
DTSTART;TZID=America/Chicago:20260426T130000
DTEND;TZID=America/Chicago:20260426T140000
DTSTAMP:20260424T031202
CREATED:20260421T233111Z
LAST-MODIFIED:20260421T233111Z
UID:10002932-1777208400-1777212000@forestburgtexas.com
SUMMARY:Afternoon Worship
DESCRIPTION:
URL:https://forestburgtexas.com/event/afternoon-worship/2026-04-26/
LOCATION:Forestburg Church of Christ\, 16969 FM 455\, Forestburg\, 76239\, United States
ORGANIZER;CN="Forestburg Church of Christ":MAILTO:forestburgchurchofchrist@gmail.com
END:VEVENT
BEGIN:VEVENT
DTSTART;TZID=America/Chicago:20260427T103000
DTEND;TZID=America/Chicago:20260427T120000
DTSTAMP:20260424T031202
CREATED:20260422T000842Z
LAST-MODIFIED:20260422T000842Z
UID:10006586-1777285800-1777291200@forestburgtexas.com
SUMMARY:Women's Prayer Time
DESCRIPTION:
URL:https://forestburgtexas.com/event/womens-prayer-time/2026-04-27/
LOCATION:Forestburg Baptist Church\, 17065 FM 455\, Forestburg\, TX\, 76239\, United States
ORGANIZER;CN="Forestburg Baptist Church":MAILTO:forestburgbc@msn.com
END:VEVENT
BEGIN:VEVENT
DTSTART;TZID=America/Chicago:20260429T153000
DTEND;TZID=America/Chicago:20260429T173000
DTSTAMP:20260424T031202
CREATED:20260422T000941Z
LAST-MODIFIED:20260422T000941Z
UID:10007109-1777476600-1777483800@forestburgtexas.com
SUMMARY:Children's Activities (B.L.A.S.T.\, Bible Learning and Spiritual Training)
DESCRIPTION:
URL:https://forestburgtexas.com/event/childrens-activities-b-l-a-s-t-bible-learning-and-spiritual-training/2026-04-29/
LOCATION:Forestburg Baptist Church\, 17065 FM 455\, Forestburg\, TX\, 76239\, United States
ORGANIZER;CN="Forestburg Baptist Church":MAILTO:forestburgbc@msn.com
END:VEVENT
BEGIN:VEVENT
DTSTART;TZID=America/Chicago:20260429T173000
DTEND;TZID=America/Chicago:20260429T180000
DTSTAMP:20260424T031202
CREATED:20260422T001022Z
LAST-MODIFIED:20260422T001022Z
UID:10007631-1777483800-1777485600@forestburgtexas.com
SUMMARY:Dinner Served
DESCRIPTION:
URL:https://forestburgtexas.com/event/dinner-served/2026-04-29/
LOCATION:Forestburg Baptist Church\, 17065 FM 455\, Forestburg\, TX\, 76239\, United States
ORGANIZER;CN="Forestburg Baptist Church":MAILTO:forestburgbc@msn.com
END:VEVENT
BEGIN:VEVENT
DTSTART;TZID=America/Chicago:20260429T180000
DTEND;TZID=America/Chicago:20260429T193000
DTSTAMP:20260424T031202
CREATED:20260421T235427Z
LAST-MODIFIED:20260421T235503Z
UID:10005282-1777485600-1777491000@forestburgtexas.com
SUMMARY:Worship
DESCRIPTION:
URL:https://forestburgtexas.com/event/worship-4/2026-04-29/
LOCATION:Saddle Creek Cowboy Church\, 278 County Road 326\, Forestburg\, TX\, 76239\, United States
ORGANIZER;CN="Saddle Creek Cowboy Church":MAILTO:jason@saddlecreekcowboychurch.org
END:VEVENT
BEGIN:VEVENT
DTSTART;TZID=America/Chicago:20260429T180000
DTEND;TZID=America/Chicago:20260429T200000
DTSTAMP:20260424T031202
CREATED:20260422T001056Z
LAST-MODIFIED:20260422T001056Z
UID:10008153-1777485600-1777492800@forestburgtexas.com
SUMMARY:Illuminate Activities (Youth Group)
DESCRIPTION:
URL:https://forestburgtexas.com/event/illuminate-activities-youth-group/2026-04-29/
LOCATION:Forestburg Baptist Church\, 17065 FM 455\, Forestburg\, TX\, 76239\, United States
ORGANIZER;CN="Forestburg Baptist Church":MAILTO:forestburgbc@msn.com
END:VEVENT
BEGIN:VEVENT
DTSTART;TZID=America/Chicago:20260503T093000
DTEND;TZID=America/Chicago:20260503T103000
DTSTAMP:20260424T031202
CREATED:20260421T220024Z
LAST-MODIFIED:20260421T220024Z
UID:10000002-1777800600-1777804200@forestburgtexas.com
SUMMARY:Sunday School
DESCRIPTION:
URL:https://forestburgtexas.com/event/sunday-school/2026-05-03/
LOCATION:Forestburg United Methodist Church\, 16846 FM 455\, Forestburg\, TX\, 76239\, United States
ORGANIZER;CN="Forestburg United Methodist Church":MAILTO:forestburgumc@gmail.com
END:VEVENT
BEGIN:VEVENT
DTSTART;TZID=America/Chicago:20260503T093000
DTEND;TZID=America/Chicago:20260503T110000
DTSTAMP:20260424T031202
CREATED:20260421T233825Z
LAST-MODIFIED:20260421T233825Z
UID:10003194-1777800600-1777806000@forestburgtexas.com
SUMMARY:Sunday School
DESCRIPTION:
URL:https://forestburgtexas.com/event/sunday-school-2/2026-05-03/
LOCATION:Life Church 2:42\, 16788 FM 455\, Forestburg\, 76239\, United States
ORGANIZER;CN="Life Church 2%3A42":MAILTO:lifechurch242@gmail.com
END:VEVENT
BEGIN:VEVENT
DTSTART;TZID=America/Chicago:20260503T094500
DTEND;TZID=America/Chicago:20260503T110000
DTSTAMP:20260424T031202
CREATED:20260422T000624Z
LAST-MODIFIED:20260422T000624Z
UID:10005543-1777801500-1777806000@forestburgtexas.com
SUMMARY:Bible Study (all ages)
DESCRIPTION:
URL:https://forestburgtexas.com/event/bible-study-all-ages/2026-05-03/
LOCATION:Forestburg Baptist Church\, 17065 FM 455\, Forestburg\, TX\, 76239\, United States
ORGANIZER;CN="Forestburg Baptist Church":MAILTO:forestburgbc@msn.com
END:VEVENT
BEGIN:VEVENT
DTSTART;TZID=America/Chicago:20260503T100000
DTEND;TZID=America/Chicago:20260503T110000
DTSTAMP:20260424T031202
CREATED:20260421T232836Z
LAST-MODIFIED:20260421T232836Z
UID:10001367-1777802400-1777806000@forestburgtexas.com
SUMMARY:Bible Class
DESCRIPTION:
URL:https://forestburgtexas.com/event/bible-class/2026-05-03/
LOCATION:Forestburg Church of Christ\, 16969 FM 455\, Forestburg\, 76239\, United States
ORGANIZER;CN="Forestburg Church of Christ":MAILTO:forestburgchurchofchrist@gmail.com
END:VEVENT
BEGIN:VEVENT
DTSTART;TZID=America/Chicago:20260503T103000
DTEND;TZID=America/Chicago:20260503T110000
DTSTAMP:20260424T031202
CREATED:20260421T220220Z
LAST-MODIFIED:20260421T220220Z
UID:10000524-1777804200-1777806000@forestburgtexas.com
SUMMARY:Coffee & Fellowship
DESCRIPTION:
URL:https://forestburgtexas.com/event/coffee-fellowship/2026-05-03/
LOCATION:Forestburg United Methodist Church\, 16846 FM 455\, Forestburg\, TX\, 76239\, United States
ORGANIZER;CN="Forestburg United Methodist Church":MAILTO:forestburgumc@gmail.com
END:VEVENT
BEGIN:VEVENT
DTSTART;TZID=America/Chicago:20260503T103000
DTEND;TZID=America/Chicago:20260503T120000
DTSTAMP:20260424T031202
CREATED:20260421T235235Z
LAST-MODIFIED:20260421T235235Z
UID:10004499-1777804200-1777809600@forestburgtexas.com
SUMMARY:Worship
DESCRIPTION:
URL:https://forestburgtexas.com/event/worship-3/2026-05-03/
LOCATION:Saddle Creek Cowboy Church\, 278 County Road 326\, Forestburg\, TX\, 76239\, United States
ORGANIZER;CN="Saddle Creek Cowboy Church":MAILTO:jason@saddlecreekcowboychurch.org
END:VEVENT
BEGIN:VEVENT
DTSTART;TZID=America/Chicago:20260503T110000
DTEND;TZID=America/Chicago:20260503T120000
DTSTAMP:20260424T031202
CREATED:20260421T220311Z
LAST-MODIFIED:20260421T220311Z
UID:10001046-1777806000-1777809600@forestburgtexas.com
SUMMARY:Morning Worship
DESCRIPTION:
URL:https://forestburgtexas.com/event/morning-worship/2026-05-03/
LOCATION:Forestburg United Methodist Church\, 16846 FM 455\, Forestburg\, TX\, 76239\, United States
ORGANIZER;CN="Forestburg United Methodist Church":MAILTO:forestburgumc@gmail.com
END:VEVENT
BEGIN:VEVENT
DTSTART;TZID=America/Chicago:20260503T110000
DTEND;TZID=America/Chicago:20260503T120000
DTSTAMP:20260424T031202
CREATED:20260421T232946Z
LAST-MODIFIED:20260421T232946Z
UID:10001889-1777806000-1777809600@forestburgtexas.com
SUMMARY:Worship
DESCRIPTION:
URL:https://forestburgtexas.com/event/worship/2026-05-03/
LOCATION:Forestburg Church of Christ\, 16969 FM 455\, Forestburg\, 76239\, United States
ORGANIZER;CN="Forestburg Church of Christ":MAILTO:forestburgchurchofchrist@gmail.com
END:VEVENT
BEGIN:VEVENT
DTSTART;TZID=America/Chicago:20260503T110000
DTEND;TZID=America/Chicago:20260503T120000
DTSTAMP:20260424T031202
CREATED:20260422T000751Z
LAST-MODIFIED:20260422T000751Z
UID:10006065-1777806000-1777809600@forestburgtexas.com
SUMMARY:Worship (nursery available for infants through 3 years)
DESCRIPTION:
URL:https://forestburgtexas.com/event/worship-nursery-available-for-infants-through-3-years/2026-05-03/
LOCATION:Forestburg Baptist Church\, 17065 FM 455\, Forestburg\, TX\, 76239\, United States
ORGANIZER;CN="Forestburg Baptist Church":MAILTO:forestburgbc@msn.com
END:VEVENT
BEGIN:VEVENT
DTSTART;TZID=America/Chicago:20260503T110000
DTEND;TZID=America/Chicago:20260503T123000
DTSTAMP:20260424T031202
CREATED:20260421T234027Z
LAST-MODIFIED:20260421T234027Z
UID:10003716-1777806000-1777811400@forestburgtexas.com
SUMMARY:Worship
DESCRIPTION:
URL:https://forestburgtexas.com/event/worship-2/2026-05-03/
LOCATION:Life Church 2:42\, 16788 FM 455\, Forestburg\, 76239\, United States
ORGANIZER;CN="Life Church 2%3A42":MAILTO:lifechurch242@gmail.com
END:VEVENT
BEGIN:VEVENT
DTSTART;TZID=America/Chicago:20260503T120000
DTEND;TZID=America/Chicago:20260503T130000
DTSTAMP:20260424T031202
CREATED:20260421T233029Z
LAST-MODIFIED:20260421T233029Z
UID:10002411-1777809600-1777813200@forestburgtexas.com
SUMMARY:Lunch
DESCRIPTION:
URL:https://forestburgtexas.com/event/lunch/2026-05-03/
LOCATION:Forestburg Church of Christ\, 16969 FM 455\, Forestburg\, 76239\, United States
ORGANIZER;CN="Forestburg Church of Christ":MAILTO:forestburgchurchofchrist@gmail.com
END:VEVENT
END:VCALENDAR